BEGIN:VCALENDAR
VERSION:2.0
PRODID:-//ChamberMaster//Event Calendar 2.0//EN
METHOD:PUBLISH
X-PUBLISHED-TTL:P1H
REFRESH-INTERVAL:P1H
CALSCALE:GREGORIAN
BEGIN:VTIMEZONE
TZID:America/Los_Angeles
BEGIN:DAYLIGHT
RRULE:FREQ=YEARLY;BYMONTH=3;BYDAY=2SU
DTSTART:20070101T000000
TZOFFSETFROM:-0800
TZOFFSETTO:-0700
TZNAME:Pacific Daylight Time
END:DAYLIGHT
BEGIN:STANDARD
RRULE:FREQ=YEARLY;BYMONTH=11;BYDAY=1SU
DTSTART:20070101T000000
TZOFFSETFROM:-0700
TZOFFSETTO:-0800
TZNAME:Pacific Standard Time
END:STANDARD
END:VTIMEZONE
BEGIN:VEVENT
DTSTART;TZID=America/Los_Angeles:20260512T113000
DTEND;TZID=America/Los_Angeles:20260512T123000
X-MICROSOFT-CDO-ALLDAYEVENT:FALSE
SUMMARY:Business Webinar Series: AI for Small Business | The Opportunity and the Risks
DESCRIPTION:AI for Small Business | The Opportunity and the RisksArtificial intelligence is no longer just for big corporations. From automating customer service to generating marketing content and streamlining bookkeeping\, AI tools are becoming affordable and accessible for businesses of every size. But with the promise comes real challenges: hidden costs\, data privacy concerns\, over-reliance on flawed outputs\, and a learning curve that can slow you down before it speeds you up.In this practical\, no-hype webinar\, we'll break down exactly where AI can save you time and money\, and where it can trip you up. Walk away with a clear picture of which tools are worth trying\, what to watch out for\, and how to start small and scale smart.Perfect for: Small business owners\, entrepreneurs\, and operators curious about AI but not sure where to begin.Speaker Bio:\nDr. Sherry Zhao is the Founder and CEO of Kalino Bio\, a Vancouver-based company developing next-generation medicine for companion animals to meet unmet medical needs. Prior to founding Kalino Bio\, she served as Regional Director at Mitacs\, where she drove significant expansion of research funding across British Columbia. A recognized leader in Canada's innovation ecosystem\, she sits on the board of the Vancouver Entrepreneurs Forum and serves on the advisory committee of GVBOT's Scale-up Centre for SMEs. She also teaches AI applications for business as part-time faculty at Simon Fraser University.Dr. Zhao holds a BSc from Peking University\,  a PhD in Chemistry from the University of British Columbia \, and a mini MBA from the Sauder School of Business. She is a recipient of the UBC Chemistry Young Alumni Award.
X-ALT-DESC;FMTTYPE=text/html:<!DOCTYPE html><html><head><title></title></head><body aria-disabled="false"><p data-olk-copy-source="MessageBody" style="color: rgb(36\, 36\, 36)\; font-style: normal\; font-variant-ligatures: normal\; font-variant-caps: normal\; font-weight: 400\; letter-spacing: normal\; orphans: 2\; text-align: start\; text-indent: 0px\; text-transform: none\; widows: 2\; word-spacing: 0px\; -webkit-text-stroke-width: 0px\; white-space: normal\; background-color: rgb(255\, 255\, 255)\; text-decoration-thickness: initial\; text-decoration-style: initial\; text-decoration-color: initial\; font-size: 11pt\; font-family: Calibri\, sans-serif\; margin: 0px\;"><strong fr-original-style="" style="font-weight: 700\;">AI for Small Business | The Opportunity and the Risks</strong></p><p style='color: rgb(36\, 36\, 36)\; font-style: normal\; font-variant-ligatures: normal\; font-variant-caps: normal\; font-weight: 400\; letter-spacing: normal\; orphans: 2\; text-align: start\; text-indent: 0px\; text-transform: none\; widows: 2\; word-spacing: 0px\; -webkit-text-stroke-width: 0px\; white-space: normal\; background-color: rgb(255\, 255\, 255)\; text-decoration-thickness: initial\; text-decoration-style: initial\; text-decoration-color: initial\; font-size: 12pt\; font-family: "Times New Roman"\, serif\; margin: 0px\;'><font size="2"><span style="border: 0px\; font-style: inherit\; font-variant: inherit\; font-weight: inherit\; font-stretch: inherit\; font-size: 11pt\; line-height: inherit\; font-family: Calibri\, sans-serif\; font-optical-sizing: inherit\; font-size-adjust: inherit\; font-kerning: inherit\; font-feature-settings: inherit\; font-variation-settings: inherit\; font-language-override: inherit\; margin: 0px\; padding: 0px\; vertical-align: baseline\; color: inherit\;">Artificial intelligence is no longer just for big corporations. From automating customer service to generating marketing content and streamlining bookkeeping\, AI tools are becoming affordable and accessible for businesses of every size. But with the promise comes real challenges: hidden costs\, data privacy concerns\, over-reliance on flawed outputs\, and a learning curve that can slow you down before it speeds you up.</span></font></p><p style='color: rgb(36\, 36\, 36)\; font-style: normal\; font-variant-ligatures: normal\; font-variant-caps: normal\; font-weight: 400\; letter-spacing: normal\; orphans: 2\; text-align: start\; text-indent: 0px\; text-transform: none\; widows: 2\; word-spacing: 0px\; -webkit-text-stroke-width: 0px\; white-space: normal\; background-color: rgb(255\, 255\, 255)\; text-decoration-thickness: initial\; text-decoration-style: initial\; text-decoration-color: initial\; font-size: 12pt\; font-family: "Times New Roman"\, serif\; margin: 0px\;'><font size="2"><span style="border: 0px\; font-style: inherit\; font-variant: inherit\; font-weight: inherit\; font-stretch: inherit\; font-size: 11pt\; line-height: inherit\; font-family: Calibri\, sans-serif\; font-optical-sizing: inherit\; font-size-adjust: inherit\; font-kerning: inherit\; font-feature-settings: inherit\; font-variation-settings: inherit\; font-language-override: inherit\; margin: 0px\; padding: 0px\; vertical-align: baseline\; color: inherit\;">In this practical\, no-hype webinar\, we&#39\;ll break down exactly where AI can save you time and money\, and where it can trip you up. Walk away with a clear picture of which tools are worth trying\, what to watch out for\, and how to start small and scale smart.</span></font></p><p style='color: rgb(36\, 36\, 36)\; font-style: normal\; font-variant-ligatures: normal\; font-variant-caps: normal\; font-weight: 400\; letter-spacing: normal\; orphans: 2\; text-align: start\; text-indent: 0px\; text-transform: none\; widows: 2\; word-spacing: 0px\; -webkit-text-stroke-width: 0px\; white-space: normal\; background-color: rgb(255\, 255\, 255)\; text-decoration-thickness: initial\; text-decoration-style: initial\; text-decoration-color: initial\; font-size: 12pt\; font-family: "Times New Roman"\, serif\; margin: 0px\;'><font size="2"><span style="border: 0px\; font-style: inherit\; font-variant: inherit\; font-weight: inherit\; font-stretch: inherit\; font-size: 11pt\; line-height: inherit\; font-family: Calibri\, sans-serif\; font-optical-sizing: inherit\; font-size-adjust: inherit\; font-kerning: inherit\; font-feature-settings: inherit\; font-variation-settings: inherit\; font-language-override: inherit\; margin: 0px\; padding: 0px\; vertical-align: baseline\; color: inherit\;">Perfect for: Small business owners\, entrepreneurs\, and operators curious about AI but not sure where to begin.</span></font></p><p style="color: rgb(36\, 36\, 36)\; font-style: normal\; font-variant-ligatures: normal\; font-variant-caps: normal\; font-weight: 400\; letter-spacing: normal\; orphans: 2\; text-align: start\; text-indent: 0px\; text-transform: none\; widows: 2\; word-spacing: 0px\; -webkit-text-stroke-width: 0px\; white-space: normal\; background-color: rgb(255\, 255\, 255)\; text-decoration-thickness: initial\; text-decoration-style: initial\; text-decoration-color: initial\; font-size: 11pt\; font-family: Calibri\, sans-serif\; margin: 0px\;"><strong fr-original-style="" style="font-weight: 700\;"><font size="2"><span data-olk-copy-source="MessageBody" style="border: 0px\; font-style: inherit\; font-variant: inherit\; font-weight: bold\; font-stretch: inherit\; font-size: 11pt\; line-height: inherit\; font-family: inherit\; font-optical-sizing: inherit\; font-size-adjust: inherit\; font-kerning: inherit\; font-feature-settings: inherit\; font-variation-settings: inherit\; font-language-override: inherit\; margin: 0px\; padding: 0px\; vertical-align: baseline\; color: inherit\;">Speaker Bio:</span></font></strong><strong fr-original-style="" style="font-weight: 700\;"><font size="2"><span data-olk-copy-source="MessageBody" style="border: 0px\; font-style: inherit\; font-variant: inherit\; font-weight: bold\; font-stretch: inherit\; font-size: 11pt\; line-height: inherit\; font-family: inherit\; font-optical-sizing: inherit\; font-size-adjust: inherit\; font-kerning: inherit\; font-feature-settings: inherit\; font-variation-settings: inherit\; font-language-override: inherit\; margin: 0px\; padding: 0px\; vertical-align: baseline\; color: inherit\;"><br></span></font></strong>Dr. Sherry Zhao is the Founder and CEO of Kalino Bio\, a Vancouver-based company developing next-generation medicine for companion animals to meet unmet medical needs. Prior to founding Kalino Bio\, she served as Regional Director at Mitacs\, where she drove significant expansion of research funding across British Columbia. A recognized leader in Canada&#39\;s innovation ecosystem\, she sits on the board of the Vancouver Entrepreneurs Forum and serves on the advisory committee of GVBOT&#39\;s Scale-up Centre for SMEs. She also teaches AI applications for business as part-time faculty at Simon Fraser University.</p><p style='color: rgb(36\, 36\, 36)\; font-style: normal\; font-variant-ligatures: normal\; font-variant-caps: normal\; font-weight: 400\; letter-spacing: normal\; orphans: 2\; text-align: start\; text-indent: 0px\; text-transform: none\; widows: 2\; word-spacing: 0px\; -webkit-text-stroke-width: 0px\; white-space: normal\; background-color: rgb(255\, 255\, 255)\; text-decoration-thickness: initial\; text-decoration-style: initial\; text-decoration-color: initial\; font-size: 12pt\; font-family: "Times New Roman"\, serif\; margin: 0px\;'><font size="2"><span style="border: 0px\; font-style: inherit\; font-variant: inherit\; font-weight: inherit\; font-stretch: inherit\; font-size: 11pt\; line-height: inherit\; font-family: Calibri\, sans-serif\; font-optical-sizing: inherit\; font-size-adjust: inherit\; font-kerning: inherit\; font-feature-settings: inherit\; font-variation-settings: inherit\; font-language-override: inherit\; margin: 0px\; padding: 0px\; vertical-align: baseline\; color: inherit\;">Dr. Zhao holds a BSc from Peking University\, &nbsp\;a PhD in Chemistry from the University of British Columbia \, and a mini MBA from the Sauder School of Business. She is a recipient of the UBC Chemistry Young Alumni Award.</span></font></p><p style="color: rgb(36\, 36\, 36)\; font-style: normal\; font-variant-ligatures: normal\; font-variant-caps: normal\; font-weight: 400\; letter-spacing: normal\; orphans: 2\; text-align: start\; text-indent: 0px\; text-transform: none\; widows: 2\; word-spacing: 0px\; -webkit-text-stroke-width: 0px\; white-space: normal\; background-color: rgb(255\, 255\, 255)\; text-decoration-thickness: initial\; text-decoration-style: initial\; text-decoration-color: initial\; font-size: 11pt\; font-family: Calibri\, sans-serif\; margin: 0px\;"><br></p></body></html>
LOCATION:
UID:e.3395.1442963
SEQUENCE:3
DTSTAMP:20260424T130112Z
URL:https://members.newwestchamber.com/chamber-events/Details/business-webinar-series-ai-for-small-business-the-opportunity-and-the-risks-1709052?sourceTypeId=Hub
END:VEVENT
END:VCALENDAR
