BEGIN:VCALENDAR
VERSION:2.0
PRODID:-//ChamberMaster//Event Calendar 2.0//EN
METHOD:PUBLISH
X-PUBLISHED-TTL:P1H
REFRESH-INTERVAL:P1H
CALSCALE:GREGORIAN
BEGIN:VTIMEZONE
TZID:America/Los_Angeles
BEGIN:DAYLIGHT
RRULE:FREQ=YEARLY;BYMONTH=3;BYDAY=2SU
DTSTART:20070101T000000
TZOFFSETFROM:-0800
TZOFFSETTO:-0700
TZNAME:Pacific Daylight Time
END:DAYLIGHT
BEGIN:STANDARD
RRULE:FREQ=YEARLY;BYMONTH=11;BYDAY=1SU
DTSTART:20070101T000000
TZOFFSETFROM:-0700
TZOFFSETTO:-0800
TZNAME:Pacific Standard Time
END:STANDARD
END:VTIMEZONE
BEGIN:VEVENT
DTSTART;TZID=America/Los_Angeles:20260528T170000
DTEND;TZID=America/Los_Angeles:20260528T190000
X-MICROSOFT-CDO-ALLDAYEVENT:FALSE
SUMMARY:New West Chamber AGM & Reception
DESCRIPTION:This year's AGM marks a significant milestone for our organization as we introduce new leadership and embark on the next chapter for the New Westminster Chamber of Commerce. This event includes one complimentary drink and light appetizers to enjoy while socializing. A cash bar will be available. Let's toast to new beginnings and a bright future ahead!
X-ALT-DESC;FMTTYPE=text/html:<!DOCTYPE html><html><head><title></title></head><body aria-disabled="false"><p>This year&#39\;s AGM marks a significant milestone for our organization as we introduce new leadership and embark on the next chapter for the New Westminster Chamber of Commerce. This event includes one complimentary drink and light appetizers to enjoy while socializing. A cash bar will be available. Let&#39\;s toast to new beginnings and a bright future ahead!</p></body></html>
LOCATION:New Westminster BC
UID:e.3395.1374188
SEQUENCE:3
DTSTAMP:20260424T125255Z
URL:https://members.newwestchamber.com/chamber-events/Details/new-west-chamber-agm-reception-1622124?sourceTypeId=Hub
END:VEVENT
END:VCALENDAR
